BEGIN:VCALENDAR
PRODID:-//nuDatenautomaten//framework iCal4j //DE
VERSION:2.0
CALSCALE:GREGORIAN
BEGIN:VTIMEZONE
TZID:Europe/Berlin
LAST-MODIFIED:20260306T231828Z
TZURL:https://www.tzurl.org/zoneinfo/Europe/Berlin
X-LIC-LOCATION:Europe/Berlin
X-PROLEPTIC-TZNAME:LMT
BEGIN:STANDARD
TZNAME:CET
TZOFFSETFROM:+005328
TZOFFSETTO:+0100
DTSTART:18930401T000000
END:STANDARD
BEGIN:DAYLIGHT
TZNAME:CEST
TZOFFSETFROM:+0100
TZOFFSETTO:+0200
DTSTART:19160430T230000
RDATE:19400401T020000
RDATE:19430329T020000
RDATE:19460414T020000
RDATE:19470406T030000
RDATE:19480418T020000
RDATE:19490410T020000
RDATE:19800406T020000
END:DAYLIGHT
BEGIN:STANDARD
TZNAME:CET
TZOFFSETFROM:+0200
TZOFFSETTO:+0100
DTSTART:19161001T010000
RDATE:19421102T030000
RDATE:19431004T030000
RDATE:19441002T030000
RDATE:19451118T030000
RDATE:19461007T030000
END:STANDARD
BEGIN:DAYLIGHT
TZNAME:CEST
TZOFFSETFROM:+0100
TZOFFSETTO:+0200
DTSTART:19170416T020000
RRULE:FREQ=YEARLY;UNTIL=19180415T010000Z;BYMONTH=4;BYDAY=3MO
END:DAYLIGHT
BEGIN:STANDARD
TZNAME:CET
TZOFFSETFROM:+0200
TZOFFSETTO:+0100
DTSTART:19170917T030000
RRULE:FREQ=YEARLY;UNTIL=19180916T010000Z;BYMONTH=9;BYDAY=3MO
END:STANDARD
BEGIN:DAYLIGHT
TZNAME:CEST
TZOFFSETFROM:+0100
TZOFFSETTO:+0200
DTSTART:19440403T020000
RRULE:FREQ=YEARLY;UNTIL=19450402T010000Z;BYMONTH=4;BYDAY=1MO
END:DAYLIGHT
BEGIN:DAYLIGHT
TZNAME:CEMT
TZOFFSETFROM:+0200
TZOFFSETTO:+0300
DTSTART:19450524T020000
RDATE:19470511T030000
END:DAYLIGHT
BEGIN:DAYLIGHT
TZNAME:CEST
TZOFFSETFROM:+0300
TZOFFSETTO:+0200
DTSTART:19450924T030000
RDATE:19470629T030000
END:DAYLIGHT
BEGIN:STANDARD
TZNAME:CET
TZOFFSETFROM:+0100
TZOFFSETTO:+0100
DTSTART:19460101T000000
RDATE:19800101T000000
END:STANDARD
BEGIN:STANDARD
TZNAME:CET
TZOFFSETFROM:+0200
TZOFFSETTO:+0100
DTSTART:19471005T030000
RRULE:FREQ=YEARLY;UNTIL=19491002T010000Z;BYMONTH=10;BYDAY=1SU
END:STANDARD
BEGIN:STANDARD
TZNAME:CET
TZOFFSETFROM:+0200
TZOFFSETTO:+0100
DTSTART:19800928T030000
RRULE:FREQ=YEARLY;UNTIL=19950924T010000Z;BYMONTH=9;BYDAY=-1SU
END:STANDARD
BEGIN:DAYLIGHT
TZNAME:CEST
TZOFFSETFROM:+0100
TZOFFSETTO:+0200
DTSTART:19810329T020000
RRULE:FREQ=YEARLY;BYMONTH=3;BYDAY=-1SU
END:DAYLIGHT
BEGIN:STANDARD
TZNAME:CET
TZOFFSETFROM:+0200
TZOFFSETTO:+0100
DTSTART:19961027T030000
RRULE:FREQ=YEARLY;BYMONTH=10;BYDAY=-1SU
END:STANDARD
END:VTIMEZONE
BEGIN:VEVENT
DTSTAMP:20260421T150321Z
DTSTART;TZID=Europe/Berlin:20240926T180000
DTEND;TZID=Europe/Berlin:20240926T210000
SUMMARY:Kreisliga VR TSV Karlsdorf vs FV Wiesental (6)
UID:d98a57ab-0dab-447d-9ae4-6b7b4fa7da54
STATUS:CONFIRMED
LAST-MODIFIED:20240928T130636Z
DESCRIPTION:Jungen 15 Kreisliga\nBegegnungs-Nr: 6\nHeim: TSV Karlsdorf\nGast: FV Wiesental\n\nAdresse: Kohlfahrtstr.\, 76689 Karlsdorf-Neuthard\n
LOCATION:Kohlfahrtstr.\, 76689 Karlsdorf-Neuthard
CATEGORIES:Saison 2024/25
END:VEVENT
BEGIN:VEVENT
DTSTAMP:20260421T150321Z
DTSTART;TZID=Europe/Berlin:20241017T180000
DTEND;TZID=Europe/Berlin:20241017T210000
SUMMARY:Kreisliga VR TSV Karlsdorf vs TTC Kronau  (15)
UID:e9b02451-d5bb-49f8-90e9-e9db55995405
STATUS:CONFIRMED
LAST-MODIFIED:20241021T204156Z
DESCRIPTION:Jungen 15 Kreisliga\nBegegnungs-Nr: 15\nHeim: TSV Karlsdorf\nGast: TTC Kronau \n\nAdresse: Kohlfahrtstr.\, 76689 Karlsdorf-Neuthard\n
LOCATION:Kohlfahrtstr.\, 76689 Karlsdorf-Neuthard
CATEGORIES:Saison 2024/25
END:VEVENT
BEGIN:VEVENT
DTSTAMP:20260421T150321Z
DTSTART;TZID=Europe/Berlin:20241107T180000
DTEND;TZID=Europe/Berlin:20241107T210000
SUMMARY:Kreisliga VR TSV Karlsdorf vs TTF Obergrombach (23)
UID:e1387004-4d11-4c07-a87e-060fe30eeb65
STATUS:CONFIRMED
LAST-MODIFIED:20241109T210549Z
DESCRIPTION:Jungen 15 Kreisliga\nBegegnungs-Nr: 23\nHeim: TSV Karlsdorf\nGast: TTF Obergrombach\n\nAdresse: Kohlfahrtstr.\, 76689 Karlsdorf-Neuthard\n
LOCATION:Kohlfahrtstr.\, 76689 Karlsdorf-Neuthard
CATEGORIES:Saison 2024/25
END:VEVENT
BEGIN:VEVENT
DTSTAMP:20260421T150321Z
DTSTART;TZID=Europe/Berlin:20241128T180000
DTEND;TZID=Europe/Berlin:20241128T210000
SUMMARY:Kreisliga VR TSV Karlsdorf vs SG-Neuenbürg/Unteröwish (29)
UID:ed1d01ab-6781-4ced-abc2-c8d9379ca406
STATUS:CONFIRMED
LAST-MODIFIED:20241201T140024Z
DESCRIPTION:Jungen 15 Kreisliga\nBegegnungs-Nr: 29\nHeim: TSV Karlsdorf\nGast: SG-Neuenbürg/Unteröwish\n\nAdresse: Kohlfahrtstr.\, 76689 Karlsdorf-Neuthard\n
LOCATION:Kohlfahrtstr.\, 76689 Karlsdorf-Neuthard
CATEGORIES:Saison 2024/25
END:VEVENT
BEGIN:VEVENT
DTSTAMP:20260421T150321Z
DTSTART;TZID=Europe/Berlin:20250313T180000
DTEND;TZID=Europe/Berlin:20250313T210000
SUMMARY:Kreisliga RR TSV Karlsdorf vs TV Kirrlach  (70)
UID:b9011c50-aaa8-473d-89e0-9095b45beb9b
STATUS:CONFIRMED
LAST-MODIFIED:20250330T213651Z
DESCRIPTION:Jungen 15 Kreisliga\nBegegnungs-Nr: 70\nHeim: TSV Karlsdorf\nGast: TV Kirrlach \n\nAdresse: Kohlfahrtstr.\, 76689 Karlsdorf-Neuthard\n
LOCATION:Kohlfahrtstr.\, 76689 Karlsdorf-Neuthard
CATEGORIES:Saison 2024/25
END:VEVENT
BEGIN:VEVENT
DTSTAMP:20260421T150321Z
DTSTART;TZID=Europe/Berlin:20250123T180000
DTEND;TZID=Europe/Berlin:20250123T210000
SUMMARY:Kreisliga RR TSV Karlsdorf vs SG-Neuenbürg/Unteröwish (46)
UID:eb635e14-1732-4b46-bf97-8968b8adce3b
STATUS:CONFIRMED
LAST-MODIFIED:20250216T213420Z
DESCRIPTION:Jungen 15 Kreisliga\nBegegnungs-Nr: 46\nHeim: TSV Karlsdorf\nGast: SG-Neuenbürg/Unteröwish\n\nAdresse: Kohlfahrtstr.\, 76689 Karlsdorf-Neuthard\n
LOCATION:Kohlfahrtstr.\, 76689 Karlsdorf-Neuthard
CATEGORIES:Saison 2024/25
END:VEVENT
BEGIN:VEVENT
DTSTAMP:20260421T150321Z
DTSTART;TZID=Europe/Berlin:20250206T180000
DTEND;TZID=Europe/Berlin:20250206T210000
SUMMARY:Kreisliga RR TSV Karlsdorf vs TTC Kronau  (55)
UID:6cb082bd-3157-4237-9bf9-a058aff0aee7
STATUS:CONFIRMED
LAST-MODIFIED:20250216T214018Z
DESCRIPTION:Jungen 15 Kreisliga\nBegegnungs-Nr: 55\nHeim: TSV Karlsdorf\nGast: TTC Kronau \n\nAdresse: Kohlfahrtstr.\, 76689 Karlsdorf-Neuthard\n
LOCATION:Kohlfahrtstr.\, 76689 Karlsdorf-Neuthard
CATEGORIES:Saison 2024/25
END:VEVENT
BEGIN:VEVENT
DTSTAMP:20260421T150321Z
DTSTART;TZID=Europe/Berlin:20250220T180000
DTEND;TZID=Europe/Berlin:20250220T210000
SUMMARY:Kreisliga RR TSV Karlsdorf vs TTV Zeutern (66)
UID:1f50b1e9-77d7-47f2-9ea6-e0f5764dc838
STATUS:CONFIRMED
LAST-MODIFIED:20250330T213246Z
DESCRIPTION:Jungen 15 Kreisliga\nBegegnungs-Nr: 66\nHeim: TSV Karlsdorf\nGast: TTV Zeutern\n\nAdresse: Kohlfahrtstr.\, 76689 Karlsdorf-Neuthard\n
LOCATION:Kohlfahrtstr.\, 76689 Karlsdorf-Neuthard
CATEGORIES:Saison 2024/25
END:VEVENT
BEGIN:VEVENT
DTSTAMP:20260421T150321Z
DTSTART;TZID=Europe/Berlin:20240928T140000
DTEND;TZID=Europe/Berlin:20240928T170000
SUMMARY:Kreisliga VR TV 1846 Bretten vs TSV Karlsdorf (4)
UID:b3ece94f-f741-44dc-acf2-bfa1e3fce692
STATUS:CONFIRMED
LAST-MODIFIED:20240930T200428Z
DESCRIPTION:Jungen 15 Kreisliga\nBegegnungs-Nr: 4\nHeim: TV 1846 Bretten\nGast: TSV Karlsdorf\n\nAdresse: Hauptstraße 12 - 14\, 75015 Bretten - Rinklingen\n
LOCATION:Hauptstraße 12 - 14\, 75015 Bretten - Rinklingen
CATEGORIES:Saison 2024/25
END:VEVENT
BEGIN:VEVENT
DTSTAMP:20260421T150321Z
DTSTART;TZID=Europe/Berlin:20241011T181500
DTEND;TZID=Europe/Berlin:20241011T211500
SUMMARY:Kreisliga VR TTIG Gochsheim  vs TSV Karlsdorf (10)
UID:b2111344-fe2f-4e06-83a3-975275711075
STATUS:CONFIRMED
LAST-MODIFIED:20241013T205317Z
DESCRIPTION:Jungen 15 Kreisliga\nBegegnungs-Nr: 10\nHeim: TTIG Gochsheim \nGast: TSV Karlsdorf\n\nAdresse: Bauerbacher Strasse 6\, 76703 Kraichtal\n
LOCATION:Bauerbacher Strasse 6\, 76703 Kraichtal
CATEGORIES:Saison 2024/25
END:VEVENT
BEGIN:VEVENT
DTSTAMP:20260421T150321Z
DTSTART;TZID=Europe/Berlin:20241206T181500
DTEND;TZID=Europe/Berlin:20241206T211500
SUMMARY:Kreisliga VR TTV Zeutern vs TSV Karlsdorf (45)
UID:6bad3585-fad6-4657-8f4e-44a4ccfc9bc2
STATUS:CONFIRMED
LAST-MODIFIED:20241209T194853Z
DESCRIPTION:Jungen 15 Kreisliga\nBegegnungs-Nr: 45\nHeim: TTV Zeutern\nGast: TSV Karlsdorf\n\nAdresse: Aue 1\, 76698 Ubstadt-Weiher\n
LOCATION:Aue 1\, 76698 Ubstadt-Weiher
CATEGORIES:Saison 2024/25
END:VEVENT
BEGIN:VEVENT
DTSTAMP:20260421T150321Z
DTSTART;TZID=Europe/Berlin:20241106T181500
DTEND;TZID=Europe/Berlin:20241106T211500
SUMMARY:Kreisliga VR TV Hambrücken  vs TSV Karlsdorf (28)
UID:45c7ec8a-7695-4076-a317-21e48c59b010
STATUS:CONFIRMED
LAST-MODIFIED:20241109T210512Z
DESCRIPTION:Jungen 15 Kreisliga\nBegegnungs-Nr: 28\nHeim: TV Hambrücken \nGast: TSV Karlsdorf\n\nAdresse: Pfarrer-Graf-Str. 6\, 76707 Hambrücken\n
LOCATION:Pfarrer-Graf-Str. 6\, 76707 Hambrücken
CATEGORIES:Saison 2024/25
END:VEVENT
BEGIN:VEVENT
DTSTAMP:20260421T150321Z
DTSTART;TZID=Europe/Berlin:20241125T183000
DTEND;TZID=Europe/Berlin:20241125T213000
SUMMARY:Kreisliga VR TV Kirrlach  vs TSV Karlsdorf (37)
UID:2a769d2b-468e-42c4-a050-68df4ae752c8
STATUS:CONFIRMED
LAST-MODIFIED:20241201T135953Z
DESCRIPTION:Jungen 15 Kreisliga\nBegegnungs-Nr: 37\nHeim: TV Kirrlach \nGast: TSV Karlsdorf\n\nAdresse: Südliche Waldstr. 4\, 68753 Waghäusel\n
LOCATION:Südliche Waldstr. 4\, 68753 Waghäusel
CATEGORIES:Saison 2024/25
END:VEVENT
BEGIN:VEVENT
DTSTAMP:20260421T150321Z
DTSTART;TZID=Europe/Berlin:20250321T181500
DTEND;TZID=Europe/Berlin:20250321T211500
SUMMARY:Kreisliga RR TTV Zeutern vs TSV Karlsdorf (74)
UID:5884b12d-df02-4ac3-be4e-fb17e48aac35
STATUS:CONFIRMED
LAST-MODIFIED:20250330T213835Z
DESCRIPTION:Jungen 15 Kreisliga\nBegegnungs-Nr: 74\nHeim: TTV Zeutern\nGast: TSV Karlsdorf\n\nAdresse: Aue 1\, 76698 Ubstadt-Weiher\n
LOCATION:Aue 1\, 76698 Ubstadt-Weiher
CATEGORIES:Saison 2024/25
END:VEVENT
BEGIN:VEVENT
DTSTAMP:20260421T150321Z
DTSTART;TZID=Europe/Berlin:20250411T180000
DTEND;TZID=Europe/Berlin:20250411T210000
SUMMARY:Kreisliga RR FV Wiesental vs TSV Karlsdorf (86)
UID:f6acf8fd-bc65-44c9-88c4-9657ab490899
STATUS:CONFIRMED
LAST-MODIFIED:20250414T221510Z
DESCRIPTION:Jungen 15 Kreisliga\nBegegnungs-Nr: 86\nHeim: FV Wiesental\nGast: TSV Karlsdorf\n\nAdresse: Seppl-Herberger-Ring  (Eingang über den Fußballplatz)\, 68753 Waghäusel\n
LOCATION:Seppl-Herberger-Ring  (Eingang über den Fußballplatz)\, 68753 Waghäusel
CATEGORIES:Saison 2024/25
END:VEVENT
BEGIN:VEVENT
DTSTAMP:20260421T150321Z
DTSTART;TZID=Europe/Berlin:20250131T183000
DTEND;TZID=Europe/Berlin:20250131T213000
SUMMARY:Kreisliga RR TTF Obergrombach vs TSV Karlsdorf (54)
UID:3a5c7cf6-8de3-47aa-b56e-3b58ccef946d
STATUS:CONFIRMED
LAST-MODIFIED:20250216T214000Z
DESCRIPTION:Jungen 15 Kreisliga\nBegegnungs-Nr: 54\nHeim: TTF Obergrombach\nGast: TSV Karlsdorf\n\nAdresse: Danzberg 8\, 76646 Bruchsal\n
LOCATION:Danzberg 8\, 76646 Bruchsal
CATEGORIES:Saison 2024/25
END:VEVENT
BEGIN:VEVENT
DTSTAMP:20260421T150321Z
DTSTART;TZID=Europe/Berlin:20250401T180000
DTEND;TZID=Europe/Berlin:20250401T210000
SUMMARY:Kreisliga RR TV 1846 Bretten vs TSV Karlsdorf (80)
UID:cb80940a-db92-4823-8f03-1d02703edad0
STATUS:CONFIRMED
LAST-MODIFIED:20250414T221246Z
DESCRIPTION:Jungen 15 Kreisliga\nBegegnungs-Nr: 80\nHeim: TV 1846 Bretten\nGast: TSV Karlsdorf\n\nAdresse: Postweg\, 75015 Bretten\n
LOCATION:Postweg\, 75015 Bretten
CATEGORIES:Saison 2024/25
END:VEVENT
BEGIN:VEVENT
DTSTAMP:20260421T150321Z
DTSTART;TZID=Europe/Berlin:20250215T143000
DTEND;TZID=Europe/Berlin:20250215T173000
SUMMARY:Kreisliga RR TTIG Gochsheim  vs TSV Karlsdorf (63)
UID:a55f72b7-98e3-40b8-b1fb-4409ffb472ea
STATUS:CONFIRMED
LAST-MODIFIED:20250216T214314Z
DESCRIPTION:Jungen 15 Kreisliga\nBegegnungs-Nr: 63\nHeim: TTIG Gochsheim \nGast: TSV Karlsdorf\n\nAdresse: Bauerbacher Strasse 6\, 76703 Kraichtal\n
LOCATION:Bauerbacher Strasse 6\, 76703 Kraichtal
CATEGORIES:Saison 2024/25
END:VEVENT
END:VCALENDAR
