BEGIN:VCALENDAR
PRODID:-//nuDatenautomaten//framework iCal4j //DE
VERSION:2.0
CALSCALE:GREGORIAN
BEGIN:VTIMEZONE
TZID:Europe/Berlin
LAST-MODIFIED:20260306T231828Z
TZURL:https://www.tzurl.org/zoneinfo/Europe/Berlin
X-LIC-LOCATION:Europe/Berlin
X-PROLEPTIC-TZNAME:LMT
BEGIN:STANDARD
TZNAME:CET
TZOFFSETFROM:+005328
TZOFFSETTO:+0100
DTSTART:18930401T000000
END:STANDARD
BEGIN:DAYLIGHT
TZNAME:CEST
TZOFFSETFROM:+0100
TZOFFSETTO:+0200
DTSTART:19160430T230000
RDATE:19400401T020000
RDATE:19430329T020000
RDATE:19460414T020000
RDATE:19470406T030000
RDATE:19480418T020000
RDATE:19490410T020000
RDATE:19800406T020000
END:DAYLIGHT
BEGIN:STANDARD
TZNAME:CET
TZOFFSETFROM:+0200
TZOFFSETTO:+0100
DTSTART:19161001T010000
RDATE:19421102T030000
RDATE:19431004T030000
RDATE:19441002T030000
RDATE:19451118T030000
RDATE:19461007T030000
END:STANDARD
BEGIN:DAYLIGHT
TZNAME:CEST
TZOFFSETFROM:+0100
TZOFFSETTO:+0200
DTSTART:19170416T020000
RRULE:FREQ=YEARLY;UNTIL=19180415T010000Z;BYMONTH=4;BYDAY=3MO
END:DAYLIGHT
BEGIN:STANDARD
TZNAME:CET
TZOFFSETFROM:+0200
TZOFFSETTO:+0100
DTSTART:19170917T030000
RRULE:FREQ=YEARLY;UNTIL=19180916T010000Z;BYMONTH=9;BYDAY=3MO
END:STANDARD
BEGIN:DAYLIGHT
TZNAME:CEST
TZOFFSETFROM:+0100
TZOFFSETTO:+0200
DTSTART:19440403T020000
RRULE:FREQ=YEARLY;UNTIL=19450402T010000Z;BYMONTH=4;BYDAY=1MO
END:DAYLIGHT
BEGIN:DAYLIGHT
TZNAME:CEMT
TZOFFSETFROM:+0200
TZOFFSETTO:+0300
DTSTART:19450524T020000
RDATE:19470511T030000
END:DAYLIGHT
BEGIN:DAYLIGHT
TZNAME:CEST
TZOFFSETFROM:+0300
TZOFFSETTO:+0200
DTSTART:19450924T030000
RDATE:19470629T030000
END:DAYLIGHT
BEGIN:STANDARD
TZNAME:CET
TZOFFSETFROM:+0100
TZOFFSETTO:+0100
DTSTART:19460101T000000
RDATE:19800101T000000
END:STANDARD
BEGIN:STANDARD
TZNAME:CET
TZOFFSETFROM:+0200
TZOFFSETTO:+0100
DTSTART:19471005T030000
RRULE:FREQ=YEARLY;UNTIL=19491002T010000Z;BYMONTH=10;BYDAY=1SU
END:STANDARD
BEGIN:STANDARD
TZNAME:CET
TZOFFSETFROM:+0200
TZOFFSETTO:+0100
DTSTART:19800928T030000
RRULE:FREQ=YEARLY;UNTIL=19950924T010000Z;BYMONTH=9;BYDAY=-1SU
END:STANDARD
BEGIN:DAYLIGHT
TZNAME:CEST
TZOFFSETFROM:+0100
TZOFFSETTO:+0200
DTSTART:19810329T020000
RRULE:FREQ=YEARLY;BYMONTH=3;BYDAY=-1SU
END:DAYLIGHT
BEGIN:STANDARD
TZNAME:CET
TZOFFSETFROM:+0200
TZOFFSETTO:+0100
DTSTART:19961027T030000
RRULE:FREQ=YEARLY;BYMONTH=10;BYDAY=-1SU
END:STANDARD
END:VTIMEZONE
BEGIN:VEVENT
DTSTAMP:20260419T223519Z
DTSTART;TZID=Europe/Berlin:20220127T201500
DTEND;TZID=Europe/Berlin:20220127T231500
SUMMARY:6. Kreisklasse Kieler MTV II vs TSV Russee III (109)
UID:e5fd8113-5382-42a0-e053-1fc7a80a67f8
STATUS:CONFIRMED
LAST-MODIFIED:20220811T195319Z
DESCRIPTION:6. Kreisklasse Herren\nBegegnungs-Nr: 109\nHeim: Kieler MTV II\nGast: TSV Russee III\n
LOCATION:
CATEGORIES:Saison 2021/22
END:VEVENT
BEGIN:VEVENT
DTSTAMP:20260419T223519Z
DTSTART;TZID=Europe/Berlin:20210923T201500
DTEND;TZID=Europe/Berlin:20210923T231500
SUMMARY:6. Kreisklasse Kieler MTV II vs TSV Melsdorf IV (14)
UID:e5fd8113-4fb6-42a0-e053-1fc7a80a67f8
STATUS:CONFIRMED
LAST-MODIFIED:20220811T195319Z
DESCRIPTION:6. Kreisklasse Herren\nBegegnungs-Nr: 14\nHeim: Kieler MTV II\nGast: TSV Melsdorf IV\n
LOCATION:
CATEGORIES:Saison 2021/22
END:VEVENT
BEGIN:VEVENT
DTSTAMP:20260419T223519Z
DTSTART;TZID=Europe/Berlin:20211028T201500
DTEND;TZID=Europe/Berlin:20211028T231500
SUMMARY:6. Kreisklasse Kieler MTV II vs Ellerbeker TV II (24)
UID:e5fd8113-5092-42a0-e053-1fc7a80a67f8
STATUS:CONFIRMED
LAST-MODIFIED:20220811T195319Z
DESCRIPTION:6. Kreisklasse Herren\nBegegnungs-Nr: 24\nHeim: Kieler MTV II\nGast: Ellerbeker TV II\n
LOCATION:
CATEGORIES:Saison 2021/22
END:VEVENT
BEGIN:VEVENT
DTSTAMP:20260419T223519Z
DTSTART;TZID=Europe/Berlin:20211115T201500
DTEND;TZID=Europe/Berlin:20211115T231500
SUMMARY:6. Kreisklasse Kieler MTV II vs Suchsdorfer SV II (30)
UID:e5fd8113-511c-42a0-e053-1fc7a80a67f8
STATUS:CONFIRMED
LAST-MODIFIED:20220811T195319Z
DESCRIPTION:6. Kreisklasse Herren\nBegegnungs-Nr: 30\nHeim: Kieler MTV II\nGast: Suchsdorfer SV II\n
LOCATION:
CATEGORIES:Saison 2021/22
END:VEVENT
BEGIN:VEVENT
DTSTAMP:20260419T223519Z
DTSTART;TZID=Europe/Berlin:20211111T201500
DTEND;TZID=Europe/Berlin:20211111T231500
SUMMARY:6. Kreisklasse Kieler MTV II vs Wellingdorfer TV III (34)
UID:e5fd8113-5167-42a0-e053-1fc7a80a67f8
STATUS:CONFIRMED
LAST-MODIFIED:20220811T195319Z
DESCRIPTION:6. Kreisklasse Herren\nBegegnungs-Nr: 34\nHeim: Kieler MTV II\nGast: Wellingdorfer TV III\n
LOCATION:
CATEGORIES:Saison 2021/22
END:VEVENT
BEGIN:VEVENT
DTSTAMP:20260419T223519Z
DTSTART;TZID=Europe/Berlin:20210909T201500
DTEND;TZID=Europe/Berlin:20210909T231500
SUMMARY:6. Kreisklasse Kieler MTV II vs TSV Klausdorf III (4)
UID:e5fd8113-51da-42a0-e053-1fc7a80a67f8
STATUS:CONFIRMED
LAST-MODIFIED:20220811T195319Z
DESCRIPTION:6. Kreisklasse Herren\nBegegnungs-Nr: 4\nHeim: Kieler MTV II\nGast: TSV Klausdorf III\n
LOCATION:
CATEGORIES:Saison 2021/22
END:VEVENT
BEGIN:VEVENT
DTSTAMP:20260419T223519Z
DTSTART;TZID=Europe/Berlin:20211202T201500
DTEND;TZID=Europe/Berlin:20211202T231500
SUMMARY:6. Kreisklasse Kieler MTV II vs Kieler TV IV (49)
UID:e5fd8113-529e-42a0-e053-1fc7a80a67f8
STATUS:CONFIRMED
LAST-MODIFIED:20220811T195319Z
DESCRIPTION:6. Kreisklasse Herren\nBegegnungs-Nr: 49\nHeim: Kieler MTV II\nGast: Kieler TV IV\n
LOCATION:
CATEGORIES:Saison 2021/22
END:VEVENT
BEGIN:VEVENT
DTSTAMP:20260419T223519Z
DTSTART;TZID=Europe/Berlin:20210915T201500
DTEND;TZID=Europe/Berlin:20210915T231500
SUMMARY:6. Kreisklasse TSV Russee III vs Kieler MTV II (8)
UID:e5fd8113-535c-42a0-e053-1fc7a80a67f8
STATUS:CONFIRMED
LAST-MODIFIED:20220811T195319Z
DESCRIPTION:6. Kreisklasse Herren\nBegegnungs-Nr: 8\nHeim: TSV Russee III\nGast: Kieler MTV II\n
LOCATION:
CATEGORIES:Saison 2021/22
END:VEVENT
BEGIN:VEVENT
DTSTAMP:20260419T223519Z
DTSTART;TZID=Europe/Berlin:20220201T200000
DTEND;TZID=Europe/Berlin:20220201T230000
SUMMARY:6. Kreisklasse TSV Melsdorf IV vs Kieler MTV II (112)
UID:e5fd8113-53aa-42a0-e053-1fc7a80a67f8
STATUS:CONFIRMED
LAST-MODIFIED:20220811T195319Z
DESCRIPTION:6. Kreisklasse Herren\nBegegnungs-Nr: 112\nHeim: TSV Melsdorf IV\nGast: Kieler MTV II\n
LOCATION:
CATEGORIES:Saison 2021/22
END:VEVENT
BEGIN:VEVENT
DTSTAMP:20260419T223519Z
DTSTART;TZID=Europe/Berlin:20210930T200000
DTEND;TZID=Europe/Berlin:20210930T230000
SUMMARY:6. Kreisklasse VfR Laboe III vs Kieler MTV II (20)
UID:e5fd8113-5047-42a0-e053-1fc7a80a67f8
STATUS:CONFIRMED
LAST-MODIFIED:20220811T195319Z
DESCRIPTION:6. Kreisklasse Herren\nBegegnungs-Nr: 20\nHeim: VfR Laboe III\nGast: Kieler MTV II\n
LOCATION:
CATEGORIES:Saison 2021/22
END:VEVENT
BEGIN:VEVENT
DTSTAMP:20260419T223519Z
DTSTART;TZID=Europe/Berlin:20211105T193000
DTEND;TZID=Europe/Berlin:20211105T223000
SUMMARY:6. Kreisklasse TSV Kronshagen V vs Kieler MTV II (40)
UID:e5fd8113-51ee-42a0-e053-1fc7a80a67f8
STATUS:CONFIRMED
LAST-MODIFIED:20220811T195319Z
DESCRIPTION:6. Kreisklasse Herren\nBegegnungs-Nr: 40\nHeim: TSV Kronshagen V\nGast: Kieler MTV II\n
LOCATION:
CATEGORIES:Saison 2021/22
END:VEVENT
BEGIN:VEVENT
DTSTAMP:20260419T223519Z
DTSTART;TZID=Europe/Berlin:20211214T193000
DTEND;TZID=Europe/Berlin:20211214T223000
SUMMARY:6. Kreisklasse THW Kiel III vs Kieler MTV II (51)
UID:e5fd8113-52d2-42a0-e053-1fc7a80a67f8
STATUS:CONFIRMED
LAST-MODIFIED:20220811T195319Z
DESCRIPTION:6. Kreisklasse Herren\nBegegnungs-Nr: 51\nHeim: THW Kiel III\nGast: Kieler MTV II\n
LOCATION:
CATEGORIES:Saison 2021/22
END:VEVENT
END:VCALENDAR
